BEGIN:VCALENDAR
VERSION:2.0
PRODID:www.localdojo.com
BEGIN:VEVENT
UID:69e51c6fe3c6c
DTSTART;TZID=America/New_York:20260423T191500
SEQUENCE:0
TRANSP:OPAQUE
DTEND;TZID=America/New_York:20260423T201500
URL:https://localdojo.com/us/valley-aikido
LOCATION:15 Merrick Lane\, Northampton\, MA 01060\, United States
X-APPLE-STRUCTURED-LOCATION;VALUE=URI;X-ADDRESS="15 Merrick Lane, Northampt
 on, MA 01060, United States";X-APPLE-RADIUS=49;X-TITLE=Valley Aikido:geo:4
 2.320693,-72.629212
GEO:42.320693;-72.629212
SUMMARY:Valley Aikido - beginner weapons class
CLASS:PUBLIC
DESCRIPTION:beginner weapons class
RRULE:FREQ=WEEKLY;INTERVAL=1
DTSTAMP:20260419T181823Z
END:VEVENT
END:VCALENDAR