BEGIN:VCALENDAR
VERSION:2.0
PRODID:www.localdojo.com
BEGIN:VEVENT
UID:69e59bd2c85f2
DTSTART;TZID=America/New_York:20260422T183000
SEQUENCE:0
TRANSP:OPAQUE
DTEND;TZID=America/New_York:20260422T193000
URL:https://localdojo.com/us/valley-aikido
LOCATION:15 Merrick Lane\, Northampton\, MA 01060\, United States
X-APPLE-STRUCTURED-LOCATION;VALUE=URI;X-ADDRESS="15 Merrick Lane, Northampt
 on, MA 01060, United States";X-APPLE-RADIUS=49;X-TITLE=Valley Aikido:geo:4
 2.320693,-72.629212
GEO:42.320693;-72.629212
SUMMARY:Valley Aikido - kyu class
CLASS:PUBLIC
DESCRIPTION:kyu class
RRULE:FREQ=WEEKLY;INTERVAL=1
DTSTAMP:20260420T032154Z
END:VEVENT
END:VCALENDAR