BEGIN:VCALENDAR
VERSION:2.0
PRODID:www.localdojo.com
BEGIN:VEVENT
UID:69e63e0c3baa2
DTSTART;TZID=America/Boise:20260423T180000
SEQUENCE:0
TRANSP:OPAQUE
DTEND;TZID=America/Boise:20260423T190000
URL:https://localdojo.com/us/utah-valley-aikido-l-l-c
LOCATION:473 Willard Peak Rd\, Mantua\, UT 84324\, United States
X-APPLE-STRUCTURED-LOCATION;VALUE=URI;X-ADDRESS="473 Willard Peak Rd, Mantu
 a, UT 84324, United States";X-APPLE-RADIUS=49;X-TITLE=Utah Valley Aikido L
 .L.C.:geo:41.487288,-111.941745
GEO:41.487288;-111.941745
SUMMARY:Utah Valley Aikido L.L.C. - basic
CLASS:PUBLIC
DESCRIPTION:basic
RRULE:FREQ=WEEKLY;INTERVAL=1
DTSTAMP:20260420T145404Z
END:VEVENT
END:VCALENDAR