BEGIN:VCALENDAR
VERSION:2.0
PRODID:www.localdojo.com
BEGIN:VEVENT
UID:69e66e6a1e66f
DTSTART;TZID=America/Rainy_River:20260424T173000
SEQUENCE:0
TRANSP:OPAQUE
DTEND;TZID=America/Rainy_River:20260424T190000
URL:https://localdojo.com/us/twin-cities-aikido-center
LOCATION:2382 Hampden Ave W\, St Paul\, MN 55114\, United States
X-APPLE-STRUCTURED-LOCATION;VALUE=URI;X-ADDRESS="2382 Hampden Ave W, St Pau
 l, MN 55114, United States";X-APPLE-RADIUS=49;X-TITLE=Twin Cities Aikido C
 enter:geo:44.969020,-93.197460
GEO:44.969020;-93.197460
SUMMARY:Twin Cities Aikido Center - regular
CLASS:PUBLIC
DESCRIPTION:regular
RRULE:FREQ=WEEKLY;INTERVAL=1
DTSTAMP:20260420T182026Z
END:VEVENT
END:VCALENDAR