BEGIN:VCALENDAR
VERSION:2.0
PRODID:www.localdojo.com
BEGIN:VEVENT
UID:69e5cbf837258
DTSTART;TZID=America/Los_Angeles:20260420T133000
SEQUENCE:0
TRANSP:OPAQUE
DTEND;TZID=America/Los_Angeles:20260420T143000
URL:https://localdojo.com/us/stanford-aikido-club?backlink=0sofk
LOCATION:341 Galvez St\, Stanford\, CA 94305\, United States
X-APPLE-STRUCTURED-LOCATION;VALUE=URI;X-ADDRESS="341 Galvez St, Stanford, C
 A 94305, United States";X-APPLE-RADIUS=49;X-TITLE=Stanford Aikido Club:geo
 :37.429983,-122.164023
GEO:37.429983;-122.164023
SUMMARY:Stanford Aikido Club
CLASS:PUBLIC
RRULE:FREQ=WEEKLY;INTERVAL=1
DTSTAMP:20260420T064720Z
END:VEVENT
END:VCALENDAR