BEGIN:VCALENDAR
VERSION:2.0
PRODID:www.localdojo.com
BEGIN:VEVENT
UID:69e62dc97f3a6
DTSTART;TZID=America/New_York:20260422T164500
SEQUENCE:0
TRANSP:OPAQUE
DTEND;TZID=America/New_York:20260422T173000
URL:https://localdojo.com/us/rivertide-aikikai
LOCATION:3198 Old Kings Road\, Catskill\, NY 12414\, United States
X-APPLE-STRUCTURED-LOCATION;VALUE=URI;X-ADDRESS="3198 Old Kings Road, Catsk
 ill, NY 12414, United States";X-APPLE-RADIUS=49;X-TITLE=Rivertide Aikikai:
 geo:42.193344,-73.927588
GEO:42.193344;-73.927588
SUMMARY:Rivertide Aikikai - kids aikido
CLASS:PUBLIC
DESCRIPTION:kids aikido
RRULE:FREQ=WEEKLY;INTERVAL=1
DTSTAMP:20260420T134441Z
END:VEVENT
END:VCALENDAR