BEGIN:VCALENDAR
VERSION:2.0
PRODID:www.localdojo.com
BEGIN:VEVENT
UID:69e5cf6416b24
DTSTART;TZID=America/New_York:20260427T180000
SEQUENCE:0
TRANSP:OPAQUE
DTEND;TZID=America/New_York:20260427T190000
URL:https://localdojo.com/us/monadnock-aikikai
LOCATION:152 Davis Street\, Keene\, NH 03431\, United States
X-APPLE-STRUCTURED-LOCATION;VALUE=URI;X-ADDRESS="152 Davis Street, Keene, N
 H 03431, United States";X-APPLE-RADIUS=49;X-TITLE=Monadnock Aikikai:geo:42
 .929384,-72.283703
GEO:42.929384;-72.283703
SUMMARY:Monadnock Aikikai
CLASS:PUBLIC
RRULE:FREQ=WEEKLY;INTERVAL=1
DTSTAMP:20260420T070156Z
END:VEVENT
END:VCALENDAR