BEGIN:VCALENDAR
VERSION:2.0
PRODID:www.localdojo.com
BEGIN:VEVENT
UID:69e69470ae637
DTSTART;TZID=America/Matamoros:20260423T190000
SEQUENCE:0
TRANSP:OPAQUE
DTEND;TZID=America/Matamoros:20260423T200000
URL:https://localdojo.com/us/gracie-barra-magnolia
LOCATION:6960 FM 1488 Rd\, Magnolia\, 77354\, United States
X-APPLE-STRUCTURED-LOCATION;VALUE=URI;X-ADDRESS="6960 FM 1488 Rd, Magnolia,
  77354, United States";X-APPLE-RADIUS=49;X-TITLE=Gracie Barra Magnolia:geo
 :30.221159,-95.574185
GEO:30.221159;-95.574185
SUMMARY:Gracie Barra Magnolia - bjj advanced
CLASS:PUBLIC
DESCRIPTION:bjj advanced
RRULE:FREQ=WEEKLY;INTERVAL=1
DTSTAMP:20260420T210240Z
END:VEVENT
END:VCALENDAR