BEGIN:VCALENDAR
VERSION:2.0
PRODID:www.localdojo.com
BEGIN:VEVENT
UID:69e54d401c92a
DTSTART;TZID=America/Matamoros:20260420T180000
SEQUENCE:0
TRANSP:OPAQUE
DTEND;TZID=America/Matamoros:20260420T190000
URL:https://localdojo.com/us/gracie-barra-magnolia
LOCATION:6960 FM 1488 Rd\, Magnolia\, 77354\, United States
X-APPLE-STRUCTURED-LOCATION;VALUE=URI;X-ADDRESS="6960 FM 1488 Rd, Magnolia,
  77354, United States";X-APPLE-RADIUS=49;X-TITLE=Gracie Barra Magnolia:geo
 :30.221159,-95.574185
GEO:30.221159;-95.574185
SUMMARY:Gracie Barra Magnolia - muay thai +bjj fundamentals
CLASS:PUBLIC
DESCRIPTION:muay thai +bjj fundamentals
RRULE:FREQ=WEEKLY;INTERVAL=1
DTSTAMP:20260419T214640Z
END:VEVENT
END:VCALENDAR