BEGIN:VCALENDAR
VERSION:2.0
PRODID:www.localdojo.com
BEGIN:VEVENT
UID:69e64b169014b
DTSTART;TZID=America/Kentucky/Monticello:20260427T193000
SEQUENCE:0
TRANSP:OPAQUE
DTEND;TZID=America/Kentucky/Monticello:20260427T203000
URL:https://localdojo.com/us/gracie-barra-cool-springs
LOCATION:4115 Mallory Lane\, Ste 206\, Franklin\, 37067\, United States
X-APPLE-STRUCTURED-LOCATION;VALUE=URI;X-ADDRESS="4115 Mallory Lane, Ste 206
 , Franklin, 37067, United States";X-APPLE-RADIUS=49;X-TITLE=Gracie Barra C
 ool Springs:geo:35.929908,-86.824756
GEO:35.929908;-86.824756
SUMMARY:Gracie Barra Cool Springs - adult advanced program
CLASS:PUBLIC
DESCRIPTION:adult advanced program
RRULE:FREQ=WEEKLY;INTERVAL=1
DTSTAMP:20260420T154942Z
END:VEVENT
END:VCALENDAR