BEGIN:VCALENDAR
VERSION:2.0
PRODID:www.localdojo.com
BEGIN:VEVENT
UID:69e67d2a426d9
DTSTART;TZID=America/Kentucky/Monticello:20260427T173000
SEQUENCE:0
TRANSP:OPAQUE
DTEND;TZID=America/Kentucky/Monticello:20260427T183000
URL:https://localdojo.com/us/gracie-barra-cool-springs
LOCATION:4115 Mallory Lane\, Ste 206\, Franklin\, 37067\, United States
X-APPLE-STRUCTURED-LOCATION;VALUE=URI;X-ADDRESS="4115 Mallory Lane, Ste 206
 , Franklin, 37067, United States";X-APPLE-RADIUS=49;X-TITLE=Gracie Barra C
 ool Springs:geo:35.929908,-86.824756
GEO:35.929908;-86.824756
SUMMARY:Gracie Barra Cool Springs - little champs 3-7 year olds
CLASS:PUBLIC
DESCRIPTION:little champs 3-7 year olds
RRULE:FREQ=WEEKLY;INTERVAL=1
DTSTAMP:20260420T192322Z
END:VEVENT
END:VCALENDAR