BEGIN:VCALENDAR
VERSION:2.0
PRODID:www.localdojo.com
BEGIN:VEVENT
UID:69ed0a06794e3
DTSTART;TZID=America/New_York:20260429T100000
SEQUENCE:0
TRANSP:OPAQUE
DTEND;TZID=America/New_York:20260429T110000
URL:https://localdojo.com/us/black-hole-jiu-jitsu
LOCATION:831 Route 52\, Fishkill\, 12524\, United States
X-APPLE-STRUCTURED-LOCATION;VALUE=URI;X-ADDRESS="831 Route 52, Fishkill, 12
 524, United States";X-APPLE-RADIUS=49;X-TITLE=Black Hole Jiu-Jitsu:geo:41.
 526732,-73.920349
GEO:41.526732;-73.920349
SUMMARY:Black Hole Jiu-Jitsu - bjj
CLASS:PUBLIC
DESCRIPTION:bjj
RRULE:FREQ=WEEKLY;INTERVAL=1
DTSTAMP:20260425T183758Z
END:VEVENT
END:VCALENDAR