BEGIN:VCALENDAR
VERSION:2.0
PRODID:www.localdojo.com
BEGIN:VEVENT
UID:69e5bdc8a734b
DTSTART;TZID=America/Los_Angeles:20260422T060000
SEQUENCE:0
TRANSP:OPAQUE
DTEND;TZID=America/Los_Angeles:20260422T070000
URL:https://localdojo.com/us/ares-bjj-roseville
LOCATION:2315 Sunset Blvd\, Rocklin\, 95661\, United States
X-APPLE-STRUCTURED-LOCATION;VALUE=URI;X-ADDRESS="2315 Sunset Blvd, Rocklin,
  95661, United States";X-APPLE-RADIUS=49;X-TITLE=Ares BJJ Roseville:geo:38
 .798531,-121.265597
GEO:38.798531;-121.265597
SUMMARY:Ares BJJ Roseville - adults gi
CLASS:PUBLIC
DESCRIPTION:adults gi
RRULE:FREQ=WEEKLY;INTERVAL=1
DTSTAMP:20260420T054648Z
END:VEVENT
END:VCALENDAR