BEGIN:VCALENDAR
VERSION:2.0
PRODID:www.localdojo.com
BEGIN:VEVENT
UID:69e597c81241b
DTSTART;TZID=America/New_York:20260421T193000
SEQUENCE:0
TRANSP:OPAQUE
DTEND;TZID=America/New_York:20260421T203000
URL:https://localdojo.com/us/aikido-of-park-slope?backlink=2blo7
LOCATION:630 Sackett St.\, Brooklyn\, NY 11217\, United States
X-APPLE-STRUCTURED-LOCATION;VALUE=URI;X-ADDRESS="630 Sackett St., Brooklyn,
  NY 11217, United States";X-APPLE-RADIUS=49;X-TITLE=Aikido of Park Slope:g
 eo:40.678381,-73.984039
GEO:40.678381;-73.984039
SUMMARY:Aikido of Park Slope - Evan Sobel
CLASS:PUBLIC
DESCRIPTION:Evan Sobel
RRULE:FREQ=WEEKLY;INTERVAL=1
DTSTAMP:20260420T030440Z
END:VEVENT
END:VCALENDAR