BEGIN:VCALENDAR
VERSION:2.0
PRODID:www.localdojo.com
BEGIN:VEVENT
UID:69e58a7ea3550
DTSTART;TZID=Europe/Jersey:20260423T183000
SEQUENCE:0
TRANSP:OPAQUE
DTEND;TZID=Europe/Jersey:20260423T193000
URL:https://localdojo.com/je/jersey-wado-ryu
LOCATION:Ville du Bocage\, St Peter\, JE3 7AT\, Jersey
X-APPLE-STRUCTURED-LOCATION;VALUE=URI;X-ADDRESS="Ville du Bocage, St Peter,
  JE3 7AT, Jersey";X-APPLE-RADIUS=49;X-TITLE=Jersey Wado Ryu:geo:49.215270,
 -2.186996
GEO:49.215270;-2.186996
SUMMARY:Jersey Wado Ryu - Juniors
CLASS:PUBLIC
DESCRIPTION:Juniors
RRULE:FREQ=WEEKLY;INTERVAL=1
DTSTAMP:20260420T020758Z
END:VEVENT
END:VCALENDAR