BEGIN:VCALENDAR
VERSION:2.0
PRODID:www.localdojo.com
BEGIN:VEVENT
UID:69e72a024c427
DTSTART;TZID=Europe/London:20260423T193000
SEQUENCE:0
TRANSP:OPAQUE
DTEND;TZID=Europe/London:20260423T210000
URL:https://localdojo.com/gb/ryu-shotokan-karate
LOCATION:17-19 Foregate Street\, Stafford\, ST16 2SA\, United Kingdom
X-APPLE-STRUCTURED-LOCATION;VALUE=URI;X-ADDRESS="17-19 Foregate Street, Sta
 fford, ST16 2SA, United Kingdom";X-APPLE-RADIUS=49;X-TITLE=Ryu Shotokan Ka
 rate:geo:52.809893,-2.119817
GEO:52.809893;-2.119817
SUMMARY:Ryu Shotokan Karate
CLASS:PUBLIC
RRULE:FREQ=WEEKLY;INTERVAL=1
DTSTAMP:20260421T074050Z
END:VEVENT
END:VCALENDAR