BEGIN:VCALENDAR
VERSION:2.0
PRODID:www.localdojo.com
BEGIN:VEVENT
UID:69e69e6434727
DTSTART;TZID=Europe/Isle_of_Man:20260424T184500
SEQUENCE:0
TRANSP:OPAQUE
DTEND;TZID=Europe/Isle_of_Man:20260424T194500
URL:https://localdojo.com/gb/ilkley-karate-club
LOCATION:Wheatley Lane\, Ben Rhydding\, LS29 8ET\, United Kingdom
X-APPLE-STRUCTURED-LOCATION;VALUE=URI;X-ADDRESS="Wheatley Lane, Ben Rhyddin
 g, LS29 8ET, United Kingdom";X-APPLE-RADIUS=49;X-TITLE=Ilkley Karate Club:
 geo:53.925142,-1.796980
GEO:53.925142;-1.796980
SUMMARY:Ilkley Karate Club - Children's Classes
CLASS:PUBLIC
DESCRIPTION:Children's Classes
RRULE:FREQ=WEEKLY;INTERVAL=1
DTSTAMP:20260420T214508Z
END:VEVENT
END:VCALENDAR