BEGIN:VCALENDAR
VERSION:2.0
PRODID:www.localdojo.com
BEGIN:VEVENT
UID:69e5b636c0322
DTSTART;TZID=Europe/Isle_of_Man:20260423T180000
SEQUENCE:0
TRANSP:OPAQUE
DTEND;TZID=Europe/Isle_of_Man:20260423T190000
URL:https://localdojo.com/gb/gakushuin-karate-north-east
LOCATION:Consett Rd\, Consett\, DH8 9QL\, United Kingdom
X-APPLE-STRUCTURED-LOCATION;VALUE=URI;X-ADDRESS="Consett Rd, Consett, DH8 9
 QL, United Kingdom";X-APPLE-RADIUS=49;X-TITLE=Gakushuin Karate North East:
 geo:54.834332,-1.877079
GEO:54.834332;-1.877079
SUMMARY:Gakushuin Karate North East - 10 years old to adult
CLASS:PUBLIC
DESCRIPTION:10 years old to adult
RRULE:FREQ=WEEKLY;INTERVAL=1
DTSTAMP:20260420T051430Z
END:VEVENT
END:VCALENDAR