BEGIN:VCALENDAR
VERSION:2.0
PRODID:www.localdojo.com
BEGIN:VEVENT
UID:69e62aa05e38e
DTSTART;TZID=Europe/London:20260422T190000
SEQUENCE:0
TRANSP:OPAQUE
DTEND;TZID=Europe/London:20260422T203000
URL:https://localdojo.com/gb/brentwood-ishinryu-karate?backlink=20git
LOCATION:Childerditch lane\, Brentwood\, Essex\, CM13 3FD\, United Kingdom
X-APPLE-STRUCTURED-LOCATION;VALUE=URI;X-ADDRESS="Childerditch lane, Brentwo
 od, Essex, CM13 3FD, United Kingdom";X-APPLE-RADIUS=49;X-TITLE=Brentwood I
 shinryu Karate:geo:51.584577,0.325270
GEO:51.584577;0.325270
SUMMARY:Brentwood Ishinryu Karate - JUNIORS AND SENIORS
CLASS:PUBLIC
DESCRIPTION:JUNIORS AND SENIORS
RRULE:FREQ=WEEKLY;INTERVAL=1
DTSTAMP:20260420T133112Z
END:VEVENT
END:VCALENDAR