BEGIN:VCALENDAR
VERSION:2.0
PRODID:www.localdojo.com
BEGIN:VEVENT
UID:69e54d3c97659
DTSTART;TZID=Europe/Jersey:20260422T190000
SEQUENCE:0
TRANSP:OPAQUE
DTEND;TZID=Europe/Jersey:20260422T200000
URL:https://localdojo.com/fr/dojo-a-rennes
LOCATION:10\, square Louis Armand\, Rennes\, 35200\, France
X-APPLE-STRUCTURED-LOCATION;VALUE=URI;X-ADDRESS="10, square Louis Armand, R
 ennes, 35200, France";X-APPLE-RADIUS=49;X-TITLE=Dojo à Rennes:geo:48.1043
 30,-1.660566
GEO:48.104330;-1.660566
SUMMARY:Dojo à Rennes
CLASS:PUBLIC
RRULE:FREQ=WEEKLY;INTERVAL=1
DTSTAMP:20260419T214636Z
END:VEVENT
END:VCALENDAR